BEGIN:VCALENDAR
VERSION:2.0
PRODID:-//eventon.com NONSGML v1.0//EN
CALSCALE:GREGORIAN
METHOD:PUBLISH
BEGIN:VEVENT
UID:69ea2075922f5
DTSTAMP:20260423T133653Z
DTSTART:20270101
DTEND:20270102
LOCATION:
SUMMARY:Schonzeit beginnt für Hecht\,  Regenbogenforelle und Aalrute
DESCRIPTION:Schonzeit beginnt für Hecht\,  Regenbogenforelle und Aalrute\n
 https://fischereiverein-feldbach.at/events/schonzeit-beginnt-fuer-hecht-reg
 enbogenforelle-und-aalrute-2/
URL:https://fischereiverein-feldbach.at/events/schonzeit-beginnt-fuer-hecht-regenbogenforelle-und-aalrute-2/
END:VEVENT
BEGIN:VEVENT
UID:69ea207592340
DTSTAMP:20260423T133653Z
DTSTART:20260401
DTEND:20260402
LOCATION:
SUMMARY:Schonzeit beginnt für Barbe\,  Barsch\,  Rotfeder\,  Brachse\,  Gründling\,  Güster\,  Steinbeißer
DESCRIPTION:Schonzeit beginnt für Barbe\,  Barsch\,  Rotfeder\,  Brachse\,
   Gründling\,  Güster\,  Steinbeißer\nhttps://fischereiverein-feldbach.a
 t/events/schonzeit-beginnt-fuer-barbe-barsch-rotfeder-brachse-gruendling-gu
 ester-steinbeisser/
URL:https://fischereiverein-feldbach.at/events/schonzeit-beginnt-fuer-barbe-barsch-rotfeder-brachse-gruendling-guester-steinbeisser/
END:VEVENT
BEGIN:VEVENT
UID:69ea207592375
DTSTAMP:20260423T133653Z
DTSTART:20260316
DTEND:20260317
LOCATION:
SUMMARY:Fischfang freigegeben für Regenbogenforelle\,  Bachforelle\,  Bachsaibling\,  Seesaibling\,  Seeforelle
DESCRIPTION:Fischfang freigegeben für Regenbogenforelle\,  Bachforelle\,  
 Bachsaibling\,  Seesaibling\,  Seeforelle\nhttps://fischereiverein-feldbach
 .at/events/fischfang-freigegeben-fuer-regenbogenforelle-bachforelle-bachsai
 bling-seesaibling-seeforelle/
URL:https://fischereiverein-feldbach.at/events/fischfang-freigegeben-fuer-regenbogenforelle-bachforelle-bachsaibling-seesaibling-seeforelle/
END:VEVENT
BEGIN:VEVENT
UID:69ea2075923a2
DTSTAMP:20260423T133653Z
DTSTART:20260228T130000Z
DTEND:20260228T150000Z
LOCATION:
SUMMARY:2. Kartenausgabe
DESCRIPTION:2. Kartenausgabe\nhttps://fischereiverein-feldbach.at/events/2-
 kartenausgabe/
URL:https://fischereiverein-feldbach.at/events/2-kartenausgabe/
END:VEVENT
BEGIN:VEVENT
UID:69ea2075923d3
DTSTAMP:20260423T133653Z
DTSTART:20260130T170000Z
DTEND:20260130T200000Z
LOCATION:
SUMMARY:Jahreshauptversammlung
DESCRIPTION:Jahreshauptversammlung\nhttps://fischereiverein-feldbach.at/eve
 nts/jahreshauptversammlung/
URL:https://fischereiverein-feldbach.at/events/jahreshauptversammlung/
END:VEVENT
BEGIN:VEVENT
UID:69ea2075923fe
DTSTAMP:20260423T133653Z
DTSTART:20260130T150000Z
DTEND:20260130T163000Z
LOCATION:
SUMMARY:1. Kartenausgabe
DESCRIPTION:1. Kartenausgabe\nhttps://fischereiverein-feldbach.at/events/1-
 kartenausgabe/
URL:https://fischereiverein-feldbach.at/events/1-kartenausgabe/
END:VEVENT
BEGIN:VEVENT
UID:69ea207592430
DTSTAMP:20260423T133653Z
DTSTART:20260315
DTEND:20260316
LOCATION:
SUMMARY:Schonzeit beginnt für Nase\,  Rußnase
DESCRIPTION:Schonzeit beginnt für Nase\,  Rußnase\nhttps://fischereiverei
 n-feldbach.at/events/schonzeit-beginnt-fuer-nase-russnase/
URL:https://fischereiverein-feldbach.at/events/schonzeit-beginnt-fuer-nase-russnase/
END:VEVENT
BEGIN:VEVENT
UID:69ea20759245e
DTSTAMP:20260423T133653Z
DTSTART:20260301
DTEND:20260302
LOCATION:
SUMMARY:Schonzeit beginnt für Zander\,  Huchen\,  Rapfen\,  Hasel\,  Schmerle\,  Schneider\,  Rotauge\,  Strömer\,  Zingel\,  Kaulbarsch\,  Neunauge
DESCRIPTION:Schonzeit beginnt für Zander\,  Huchen\,  Rapfen\,  Hasel\,  S
 chmerle\,  Schneider\,  Rotauge\,  Strömer\,  Zingel\,  Kaulbarsch\,  Neun
 auge\nhttps://fischereiverein-feldbach.at/events/schonzeit-beginnt-fuer-zan
 der-huchen-rapfen-hasel-schmerle-schneider-rotauge-stroemer-zingel-kaulbars
 ch-neunauge/
URL:https://fischereiverein-feldbach.at/events/schonzeit-beginnt-fuer-zander-huchen-rapfen-hasel-schmerle-schneider-rotauge-stroemer-zingel-kaulbarsch-neunauge/
END:VEVENT
BEGIN:VEVENT
UID:69ea20759248b
DTSTAMP:20260423T133653Z
DTSTART:20260101
DTEND:20260102
LOCATION:
SUMMARY:Schonzeit beginnt für Hecht\,  Regenbogenforelle und Aalrute
DESCRIPTION:Schonzeit beginnt für Hecht\,  Regenbogenforelle und Aalrute\n
 https://fischereiverein-feldbach.at/events/schonzeit-beginnt-fuer-hecht-reg
 enbogenforelle-und-aalrute/
URL:https://fischereiverein-feldbach.at/events/schonzeit-beginnt-fuer-hecht-regenbogenforelle-und-aalrute/
END:VEVENT
BEGIN:VEVENT
UID:69ea2075924bf
DTSTAMP:20260423T133653Z
DTSTART:20250701
DTEND:20250702
LOCATION:
SUMMARY:Fischfang frei gegeben für Karpfen\,  Schleie\,  Wels\,  Rapfen\,  Karausche\,  Barsch\,  Brachse\,  Laube\,  Gründling\,  Huchen\,  Schneider
DESCRIPTION:Fischfang frei gegeben für Karpfen\,  Schleie\,  Wels\,  Rapfe
 n\,  Karausche\,  Barsch\,  Brachse\,  Laube\,  Gründling\,  Huchen\,  Sch
 neider\nhttps://fischereiverein-feldbach.at/events/fischfang-frei-gegeben-f
 uer-karpfen-schleie-wels-rapfen-karausche-barsch-brachse-laube-gruendling-h
 uchen-schneider/
URL:https://fischereiverein-feldbach.at/events/fischfang-frei-gegeben-fuer-karpfen-schleie-wels-rapfen-karausche-barsch-brachse-laube-gruendling-huchen-schneider/
END:VEVENT
BEGIN:VEVENT
UID:69ea2075924ec
DTSTAMP:20260423T133653Z
DTSTART:20250601
DTEND:20250602
LOCATION:
SUMMARY:Fischfang frei gegeben für Zander\,  Schmerle\,  Hasel\,  Nase\,  Rußnase\,  Rotauge\,  Strömer\,  Steinbeißer\,  Edelkrebs
DESCRIPTION:Fischfang frei gegeben für Zander\,  Schmerle\,  Hasel\,  Nase
 \,  Rußnase\,  Rotauge\,  Strömer\,  Steinbeißer\,  Edelkrebs\nhttps://f
 ischereiverein-feldbach.at/events/fischfang-frei-gegeben-fuer-zander-schmer
 le-hasel-nase-russnase-rotauge-stroemer-steinbeisser-edelkrebs/
URL:https://fischereiverein-feldbach.at/events/fischfang-frei-gegeben-fuer-zander-schmerle-hasel-nase-russnase-rotauge-stroemer-steinbeisser-edelkrebs/
END:VEVENT
BEGIN:VEVENT
UID:69ea207592518
DTSTAMP:20260423T133653Z
DTSTART:20250601
DTEND:20250602
LOCATION:
SUMMARY:Fischfang freigegeben für Hecht
DESCRIPTION:Fischfang freigegeben für Hecht\nhttps://fischereiverein-feldb
 ach.at/events/fischfang-freigegeben-fuer-hecht/
URL:https://fischereiverein-feldbach.at/events/fischfang-freigegeben-fuer-hecht/
END:VEVENT
BEGIN:VEVENT
UID:69ea207592542
DTSTAMP:20260423T133653Z
DTSTART:20250515
DTEND:20250516
LOCATION:
SUMMARY:Schonzeit beginnt für Karpfen
DESCRIPTION:Schonzeit beginnt für Karpfen\nhttps://fischereiverein-feldbac
 h.at/events/schonzeit-beginnt-fuer-karpfen/
URL:https://fischereiverein-feldbach.at/events/schonzeit-beginnt-fuer-karpfen/
END:VEVENT
BEGIN:VEVENT
UID:69ea20759256b
DTSTAMP:20260423T133653Z
DTSTART:20250501
DTEND:20250502
LOCATION:
SUMMARY:Schonzeit beginnt für Laube\,  Schleie\,  Karausche
DESCRIPTION:Schonzeit beginnt für Laube\,  Schleie\,  Karausche\nhttps://f
 ischereiverein-feldbach.at/events/schonzeit-beginnt-fuer-laube-schleie-kara
 usche/
URL:https://fischereiverein-feldbach.at/events/schonzeit-beginnt-fuer-laube-schleie-karausche/
END:VEVENT
END:VCALENDAR