BEGIN:VCALENDAR
VERSION:2.0
PRODID:-//eventon.com NONSGML v1.0//EN
CALSCALE:GREGORIAN
METHOD:PUBLISH
BEGIN:VEVENT
UID:69ea20931dc91
DTSTAMP:20260423T133723Z
DTSTART:20260401
DTEND:20260402
LOCATION:
SUMMARY:Schonzeit beginnt für Barbe\,  Barsch\,  Rotfeder\,  Brachse\,  Gründling\,  Güster\,  Steinbeißer
DESCRIPTION:Schonzeit beginnt für Barbe\,  Barsch\,  Rotfeder\,  Brachse\,
   Gründling\,  Güster\,  Steinbeißer\nhttps://fischereiverein-feldbach.a
 t/events/schonzeit-beginnt-fuer-barbe-barsch-rotfeder-brachse-gruendling-gu
 ester-steinbeisser/
URL:https://fischereiverein-feldbach.at/events/schonzeit-beginnt-fuer-barbe-barsch-rotfeder-brachse-gruendling-guester-steinbeisser/
END:VEVENT
END:VCALENDAR