BEGIN:VCALENDAR
VERSION:2.0
PRODID:-//eventon.com NONSGML v1.0//EN
CALSCALE:GREGORIAN
METHOD:PUBLISH
BEGIN:VEVENT
UID:69ea2085f3a44
DTSTAMP:20260423T133709Z
DTSTART:20260316
DTEND:20260317
LOCATION:
SUMMARY:Fischfang freigegeben für Regenbogenforelle\,  Bachforelle\,  Bachsaibling\,  Seesaibling\,  Seeforelle
DESCRIPTION:Wann: Freitag 16.03.2026 Ganztägig\nhttps://fischereiverein-fe
 ldbach.at/events/fischfang-freigegeben-fuer-regenbogenforelle-bachforelle-b
 achsaibling-seesaibling-seeforelle/
URL:https://fischereiverein-feldbach.at/events/fischfang-freigegeben-fuer-regenbogenforelle-bachforelle-bachsaibling-seesaibling-seeforelle/
END:VEVENT
END:VCALENDAR