BEGIN:VCALENDAR
VERSION:2.0
PRODID:-//eventon.com NONSGML v1.0//EN
CALSCALE:GREGORIAN
METHOD:PUBLISH
BEGIN:VEVENT
UID:69ea20b81f905
DTSTAMP:20260423T133800Z
DTSTART:20260315
DTEND:20260316
LOCATION:
SUMMARY:Schonzeit beginnt für Nase\,  Rußnase
DESCRIPTION:Schonzeit beginnt für Nase\,  Rußnase\nhttps://fischereiverei
 n-feldbach.at/events/schonzeit-beginnt-fuer-nase-russnase/
URL:https://fischereiverein-feldbach.at/events/schonzeit-beginnt-fuer-nase-russnase/
END:VEVENT
END:VCALENDAR