BEGIN:VCALENDAR
VERSION:2.0
PRODID:-//eventon.com NONSGML v1.0//EN
CALSCALE:GREGORIAN
METHOD:PUBLISH
BEGIN:VEVENT
UID:69ea20cd79efb
DTSTAMP:20260423T133821Z
DTSTART:20250701
DTEND:20250702
LOCATION:
SUMMARY:Fischfang frei gegeben für Karpfen\,  Schleie\,  Wels\,  Rapfen\,  Karausche\,  Barsch\,  Brachse\,  Laube\,  Gründling\,  Huchen\,  Schneider
DESCRIPTION:Fischfang frei gegeben für Karpfen\,  Schleie\,  Wels\,  Rapfe
 n\,  Karausche\,  Barsch\,  Brachse\,  Laube\,  Gründling\,  Huchen\,  Sch
 neider\nhttps://fischereiverein-feldbach.at/events/fischfang-frei-gegeben-f
 uer-karpfen-schleie-wels-rapfen-karausche-barsch-brachse-laube-gruendling-h
 uchen-schneider/
URL:https://fischereiverein-feldbach.at/events/fischfang-frei-gegeben-fuer-karpfen-schleie-wels-rapfen-karausche-barsch-brachse-laube-gruendling-huchen-schneider/
END:VEVENT
END:VCALENDAR