BEGIN:VCALENDAR
VERSION:2.0
PRODID:-//eventon.com NONSGML v1.0//EN
CALSCALE:GREGORIAN
METHOD:PUBLISH
BEGIN:VEVENT
UID:69ea2105e03e4
DTSTAMP:20260423T133917Z
DTSTART:20250601
DTEND:20250602
LOCATION:
SUMMARY:Fischfang freigegeben für Hecht
DESCRIPTION:Fischfang freigegeben für Hecht\nhttps://fischereiverein-feldb
 ach.at/events/fischfang-freigegeben-fuer-hecht/
URL:https://fischereiverein-feldbach.at/events/fischfang-freigegeben-fuer-hecht/
END:VEVENT
END:VCALENDAR