BEGIN:VCALENDAR
VERSION:2.0
PRODID:-//eventon.com NONSGML v1.0//EN
CALSCALE:GREGORIAN
METHOD:PUBLISH
BEGIN:VEVENT
UID:69ea20dd25d46
DTSTAMP:20260423T133837Z
DTSTART:20250501
DTEND:20250502
LOCATION:
SUMMARY:Schonzeit beginnt für Laube\,  Schleie\,  Karausche
DESCRIPTION:Schonzeit beginnt für Laube\,  Schleie\,  Karausche\nhttps://f
 ischereiverein-feldbach.at/events/schonzeit-beginnt-fuer-laube-schleie-kara
 usche/
URL:https://fischereiverein-feldbach.at/events/schonzeit-beginnt-fuer-laube-schleie-karausche/
END:VEVENT
END:VCALENDAR